BEGIN:VCALENDAR
VERSION:2.0
PRODID:-//Kora Shriners - ECPv6.15.12.2//NONSGML v1.0//EN
CALSCALE:GREGORIAN
METHOD:PUBLISH
X-WR-CALNAME:Kora Shriners
X-ORIGINAL-URL:https://korashriners.org
X-WR-CALDESC:Events for Kora Shriners
REFRESH-INTERVAL;VALUE=DURATION:PT1H
X-Robots-Tag:noindex
X-PUBLISHED-TTL:PT1H
BEGIN:VTIMEZONE
TZID:America/New_York
BEGIN:DAYLIGHT
TZOFFSETFROM:-0500
TZOFFSETTO:-0400
TZNAME:EDT
DTSTART:20230312T070000
END:DAYLIGHT
BEGIN:STANDARD
TZOFFSETFROM:-0400
TZOFFSETTO:-0500
TZNAME:EST
DTSTART:20231105T060000
END:STANDARD
BEGIN:DAYLIGHT
TZOFFSETFROM:-0500
TZOFFSETTO:-0400
TZNAME:EDT
DTSTART:20240310T070000
END:DAYLIGHT
BEGIN:STANDARD
TZOFFSETFROM:-0400
TZOFFSETTO:-0500
TZNAME:EST
DTSTART:20241103T060000
END:STANDARD
BEGIN:DAYLIGHT
TZOFFSETFROM:-0500
TZOFFSETTO:-0400
TZNAME:EDT
DTSTART:20250309T070000
END:DAYLIGHT
BEGIN:STANDARD
TZOFFSETFROM:-0400
TZOFFSETTO:-0500
TZNAME:EST
DTSTART:20251102T060000
END:STANDARD
BEGIN:DAYLIGHT
TZOFFSETFROM:-0500
TZOFFSETTO:-0400
TZNAME:EDT
DTSTART:20260308T070000
END:DAYLIGHT
BEGIN:STANDARD
TZOFFSETFROM:-0400
TZOFFSETTO:-0500
TZNAME:EST
DTSTART:20261101T060000
END:STANDARD
BEGIN:DAYLIGHT
TZOFFSETFROM:-0500
TZOFFSETTO:-0400
TZNAME:EDT
DTSTART:20270314T070000
END:DAYLIGHT
BEGIN:STANDARD
TZOFFSETFROM:-0400
TZOFFSETTO:-0500
TZNAME:EST
DTSTART:20271107T060000
END:STANDARD
END:VTIMEZONE
BEGIN:VEVENT
DTSTART;TZID=America/New_York:20260110T123000
DTEND;TZID=America/New_York:20260110T210000
DTSTAMP:20260419T115811
CREATED:20251210T134220Z
LAST-MODIFIED:20251211T144651Z
UID:10000687-1768048200-1768078800@korashriners.org
SUMMARY:2026 Annual Meeting & Installation of Officers
DESCRIPTION:
URL:https://korashriners.org/event/2026-annual-meeting-installation-of-officers/
LOCATION:Kora Shrine Temple\, 11 Sabattus St\, Lewiston\, ME\, 04240\, United States
ORGANIZER;CN="Kora Shriners":MAILTO:info@korashriners.org
END:VEVENT
BEGIN:VEVENT
DTSTART;TZID=America/New_York:20260110T080000
DTEND;TZID=America/New_York:20260110T210000
DTSTAMP:20260419T115811
CREATED:20250910T141843Z
LAST-MODIFIED:20250910T141843Z
UID:10000669-1768032000-1768078800@korashriners.org
SUMMARY:Annual Meeting - Installation
DESCRIPTION:
URL:https://korashriners.org/event/annual-meeting-installation/
LOCATION:Kora Shrine Temple\, 11 Sabattus St\, Lewiston\, ME\, 04240\, United States
ORGANIZER;CN="Kora Shriners":MAILTO:info@korashriners.org
END:VEVENT
BEGIN:VEVENT
DTSTART;TZID=America/New_York:20251219T080000
DTEND;TZID=America/New_York:20251220T210000
DTSTAMP:20260419T115811
CREATED:20250917T164846Z
LAST-MODIFIED:20250917T164846Z
UID:10000679-1766131200-1766264400@korashriners.org
SUMMARY:Trustees - private event
DESCRIPTION:set up 12/19 \nevent 12/20 5-9 pm \nKora kitchen club providing food
URL:https://korashriners.org/event/trustees-private-event/
LOCATION:Kora Shrine Temple\, 11 Sabattus St\, Lewiston\, ME\, 04240\, United States
ORGANIZER;CN="Kora Shriners":MAILTO:info@korashriners.org
END:VEVENT
BEGIN:VEVENT
DTSTART;TZID=America/New_York:20251213T120000
DTEND;TZID=America/New_York:20251213T200000
DTSTAMP:20260419T115811
CREATED:20250828T134337Z
LAST-MODIFIED:20250828T134337Z
UID:10000608-1765627200-1765656000@korashriners.org
SUMMARY:Second Section Christmas Party
DESCRIPTION:
URL:https://korashriners.org/event/second-section-christmas-party-2/
LOCATION:Kora Shrine Temple\, 11 Sabattus St\, Lewiston\, ME\, 04240\, United States
ORGANIZER;CN="Kora Shriners":MAILTO:info@korashriners.org
END:VEVENT
BEGIN:VEVENT
DTSTART;TZID=America/New_York:20251208T180000
DTEND;TZID=America/New_York:20251208T190000
DTSTAMP:20260419T115811
CREATED:20250403T170212Z
LAST-MODIFIED:20250403T170212Z
UID:10000540-1765216800-1765220400@korashriners.org
SUMMARY:Cycle Corps Unit Monthly Meeting
DESCRIPTION:
URL:https://korashriners.org/event/cycle-corps-unit-monthly-meeting/2025-12-08/
LOCATION:Kora Shrine Temple\, 11 Sabattus St\, Lewiston\, ME\, 04240\, United States
ORGANIZER;CN="Kora Shriners":MAILTO:info@korashriners.org
END:VEVENT
BEGIN:VEVENT
DTSTART;TZID=America/New_York:20251207T070000
DTEND;TZID=America/New_York:20251207T140000
DTSTAMP:20260419T115811
CREATED:20250828T135618Z
LAST-MODIFIED:20250828T135618Z
UID:10000609-1765090800-1765116000@korashriners.org
SUMMARY:Breakfast with Santa - Maine Rainbow
DESCRIPTION:
URL:https://korashriners.org/event/breakfast-with-santa-maine-rainbow/
LOCATION:Kora Shrine Temple\, 11 Sabattus St\, Lewiston\, ME\, 04240\, United States
ORGANIZER;CN="Kora Shriners":MAILTO:info@korashriners.org
END:VEVENT
BEGIN:VEVENT
DTSTART;TZID=America/New_York:20251110T180000
DTEND;TZID=America/New_York:20251110T190000
DTSTAMP:20260419T115811
CREATED:20250403T170212Z
LAST-MODIFIED:20250403T170212Z
UID:10000539-1762797600-1762801200@korashriners.org
SUMMARY:Cycle Corps Unit Monthly Meeting
DESCRIPTION:
URL:https://korashriners.org/event/cycle-corps-unit-monthly-meeting/2025-11-10/
LOCATION:Kora Shrine Temple\, 11 Sabattus St\, Lewiston\, ME\, 04240\, United States
ORGANIZER;CN="Kora Shriners":MAILTO:info@korashriners.org
END:VEVENT
BEGIN:VEVENT
DTSTART;TZID=America/New_York:20251024T120000
DTEND;TZID=America/New_York:20251025T200000
DTSTAMP:20260419T115811
CREATED:20250917T165556Z
LAST-MODIFIED:20250917T165556Z
UID:10000681-1761307200-1761422400@korashriners.org
SUMMARY:DeMolay (Knights of the Sun)
DESCRIPTION:set up 10/24  5:30 \nevent 10/25 12:00 to 8:00 pm
URL:https://korashriners.org/event/demolay-knights-of-the-sun/
LOCATION:Kora Shrine Temple\, 11 Sabattus St\, Lewiston\, ME\, 04240\, United States
ORGANIZER;CN="Kora Shriners":MAILTO:info@korashriners.org
END:VEVENT
BEGIN:VEVENT
DTSTART;TZID=America/New_York:20251019T100000
DTEND;TZID=America/New_York:20251019T120000
DTSTAMP:20260419T115811
CREATED:20250602T221721Z
LAST-MODIFIED:20250605T160029Z
UID:10000600-1760868000-1760875200@korashriners.org
SUMMARY:Boston Haunted Walk
DESCRIPTION:Join the Kora Shriners!\nHold On to The Memories Team. \nHelp us raise $7\,000 for the 6th annual Boston Haunted Walk\nFamily-friendly walk and fall festival benefits pediatric burn care\, reconstructive plastic surgery\, and cleft lip and palate care provided at Shriners Children’s Boston\, regardless of families’ ability to\npay or insurance status. \nBoston Haunted Walk (1)
URL:https://korashriners.org/event/boston-haunted-walk/
LOCATION:The Garden at Elm Bank\, 900 Washington St\, Wellsley\, MA\, 02482-
ATTACH;FMTTYPE=image/png:https://korashriners.org/wp-content/uploads/2025/06/Screenshot-2025-06-05-at-11.54.43 AM.png
ORGANIZER;CN="Kora Shriners":MAILTO:info@korashriners.org
END:VEVENT
BEGIN:VEVENT
DTSTART;TZID=America/New_York:20251016T080000
DTEND;TZID=America/New_York:20251017T220000
DTSTAMP:20260419T115811
CREATED:20250808T114828Z
LAST-MODIFIED:20250808T114828Z
UID:10000606-1760601600-1760738400@korashriners.org
SUMMARY:BNI Gala - trustee rental
DESCRIPTION:set up on 10/16 — event on 10/17 \nBNI gala celebration –
URL:https://korashriners.org/event/bni-gala-trustee-rental/
LOCATION:Kora Shrine Temple\, 11 Sabattus St\, Lewiston\, ME\, 04240\, United States
ORGANIZER;CN="Kora Shriners":MAILTO:info@korashriners.org
END:VEVENT
BEGIN:VEVENT
DTSTART;TZID=America/New_York:20251013T180000
DTEND;TZID=America/New_York:20251013T190000
DTSTAMP:20260419T115811
CREATED:20250403T170212Z
LAST-MODIFIED:20250403T170212Z
UID:10000538-1760378400-1760382000@korashriners.org
SUMMARY:Cycle Corps Unit Monthly Meeting
DESCRIPTION:
URL:https://korashriners.org/event/cycle-corps-unit-monthly-meeting/2025-10-13/
LOCATION:Kora Shrine Temple\, 11 Sabattus St\, Lewiston\, ME\, 04240\, United States
ORGANIZER;CN="Kora Shriners":MAILTO:info@korashriners.org
END:VEVENT
BEGIN:VEVENT
DTSTART;TZID=America/New_York:20251011T080000
DTEND;TZID=America/New_York:20251011T210000
DTSTAMP:20260419T115811
CREATED:20250807T165500Z
LAST-MODIFIED:20250812T153606Z
UID:10000605-1760169600-1760216400@korashriners.org
SUMMARY:Fall Ceremonial
DESCRIPTION:Fall Ceremonial flyer 2025 (2)
URL:https://korashriners.org/event/fall-ceremonial-2/
LOCATION:Kora Shrine Temple\, 11 Sabattus St\, Lewiston\, ME\, 04240\, United States
ORGANIZER;CN="Kora Shriners":MAILTO:info@korashriners.org
END:VEVENT
BEGIN:VEVENT
DTSTART;TZID=America/New_York:20251005T070000
DTEND;TZID=America/New_York:20251005T120000
DTSTAMP:20260419T115811
CREATED:20250828T135801Z
LAST-MODIFIED:20250828T135801Z
UID:10000610-1759647600-1759665600@korashriners.org
SUMMARY:Kora - DeMolay Breakfast
DESCRIPTION:
URL:https://korashriners.org/event/kora-demolay-breakfast-2/
LOCATION:Kora Shrine Temple\, 11 Sabattus St\, Lewiston\, ME\, 04240\, United States
ORGANIZER;CN="Kora Shriners":MAILTO:info@korashriners.org
END:VEVENT
BEGIN:VEVENT
DTSTART;TZID=America/New_York:20250913T170000
DTEND;TZID=America/New_York:20250913T210000
DTSTAMP:20260419T115811
CREATED:20250729T185818Z
LAST-MODIFIED:20250731T182358Z
UID:10000604-1757782800-1757797200@korashriners.org
SUMMARY:Ladies Appreciation Night/Murder Mystery Dinner
DESCRIPTION:
URL:https://korashriners.org/event/ladies-appreciation-night-murder-mystery-dinner/
LOCATION:Kora Shrine Temple\, 11 Sabattus St\, Lewiston\, ME\, 04240\, United States
ORGANIZER;CN="Kora Shriners":MAILTO:info@korashriners.org
END:VEVENT
BEGIN:VEVENT
DTSTART;TZID=America/New_York:20250908T180000
DTEND;TZID=America/New_York:20250908T190000
DTSTAMP:20260419T115811
CREATED:20250403T170212Z
LAST-MODIFIED:20250403T170212Z
UID:10000537-1757354400-1757358000@korashriners.org
SUMMARY:Cycle Corps Unit Monthly Meeting
DESCRIPTION:
URL:https://korashriners.org/event/cycle-corps-unit-monthly-meeting/2025-09-08/
LOCATION:Kora Shrine Temple\, 11 Sabattus St\, Lewiston\, ME\, 04240\, United States
ORGANIZER;CN="Kora Shriners":MAILTO:info@korashriners.org
END:VEVENT
BEGIN:VEVENT
DTSTART;TZID=America/New_York:20250811T180000
DTEND;TZID=America/New_York:20250811T190000
DTSTAMP:20260419T115812
CREATED:20250403T170212Z
LAST-MODIFIED:20250403T170212Z
UID:10000536-1754935200-1754938800@korashriners.org
SUMMARY:Cycle Corps Unit Monthly Meeting
DESCRIPTION:
URL:https://korashriners.org/event/cycle-corps-unit-monthly-meeting/2025-08-11/
LOCATION:Kora Shrine Temple\, 11 Sabattus St\, Lewiston\, ME\, 04240\, United States
ORGANIZER;CN="Kora Shriners":MAILTO:info@korashriners.org
END:VEVENT
BEGIN:VEVENT
DTSTART;VALUE=DATE:20250808
DTEND;VALUE=DATE:20250811
DTSTAMP:20260419T115812
CREATED:20250629T133036Z
LAST-MODIFIED:20250629T133036Z
UID:10000603-1754611200-1754870399@korashriners.org
SUMMARY:Western Mtn. SC Potentate's Reception and Parade
DESCRIPTION:
URL:https://korashriners.org/event/western-mtn-sc-potentates-reception-and-parade/
LOCATION:Kora Shrine Temple\, 11 Sabattus St\, Lewiston\, ME\, 04240\, United States
ORGANIZER;CN="Kora Shriners":MAILTO:info@korashriners.org
END:VEVENT
BEGIN:VEVENT
DTSTART;VALUE=DATE:20250725
DTEND;VALUE=DATE:20250728
DTSTAMP:20260419T115812
CREATED:20250415T144842Z
LAST-MODIFIED:20250415T144842Z
UID:10000595-1753401600-1753660799@korashriners.org
SUMMARY:Legion of Honor Craft Sale at Kora
DESCRIPTION:Legion of Honor Craft Sale -unit fund raiser
URL:https://korashriners.org/event/legion-of-honor-craft-sale-at-kora/
LOCATION:Kora Shrine Temple\, 11 Sabattus St\, Lewiston\, ME\, 04240\, United States
ORGANIZER;CN="Kora Shriners":MAILTO:info@korashriners.org
END:VEVENT
BEGIN:VEVENT
DTSTART;TZID=America/New_York:20250714T180000
DTEND;TZID=America/New_York:20250714T190000
DTSTAMP:20260419T115812
CREATED:20250403T170212Z
LAST-MODIFIED:20250403T170212Z
UID:10000535-1752516000-1752519600@korashriners.org
SUMMARY:Cycle Corps Unit Monthly Meeting
DESCRIPTION:
URL:https://korashriners.org/event/cycle-corps-unit-monthly-meeting/2025-07-14/
LOCATION:Kora Shrine Temple\, 11 Sabattus St\, Lewiston\, ME\, 04240\, United States
ORGANIZER;CN="Kora Shriners":MAILTO:info@korashriners.org
END:VEVENT
BEGIN:VEVENT
DTSTART;TZID=America/New_York:20250618T173000
DTEND;TZID=America/New_York:20250618T200000
DTSTAMP:20260419T115812
CREATED:20250513T011839Z
LAST-MODIFIED:20250513T012326Z
UID:10000598-1750267800-1750276800@korashriners.org
SUMMARY:Chief Rabban Trip 2026 -- pre-trip info meeting
DESCRIPTION:
URL:https://korashriners.org/event/chief-rabban-trip-2026-pre-trip-info-meeting/
LOCATION:Kora Shrine Temple\, 11 Sabattus St\, Lewiston\, ME\, 04240\, United States
ORGANIZER;CN="Kora Shriners":MAILTO:info@korashriners.org
END:VEVENT
BEGIN:VEVENT
DTSTART;TZID=America/New_York:20250613T080000
DTEND;TZID=America/New_York:20250615T170000
DTSTAMP:20260419T115812
CREATED:20250415T185418Z
LAST-MODIFIED:20250527T195513Z
UID:10000596-1749801600-1750006800@korashriners.org
SUMMARY:2025 Summer Ceremonial
DESCRIPTION:Click Here to Sign up
URL:https://korashriners.org/event/2025-summer-ceremonial/
ORGANIZER;CN="Kora Shriners":MAILTO:info@korashriners.org
END:VEVENT
BEGIN:VEVENT
DTSTART;TZID=America/New_York:20250609T180000
DTEND;TZID=America/New_York:20250609T190000
DTSTAMP:20260419T115812
CREATED:20250403T170212Z
LAST-MODIFIED:20250403T170212Z
UID:10000534-1749492000-1749495600@korashriners.org
SUMMARY:Cycle Corps Unit Monthly Meeting
DESCRIPTION:
URL:https://korashriners.org/event/cycle-corps-unit-monthly-meeting/2025-06-09/
LOCATION:Kora Shrine Temple\, 11 Sabattus St\, Lewiston\, ME\, 04240\, United States
ORGANIZER;CN="Kora Shriners":MAILTO:info@korashriners.org
END:VEVENT
BEGIN:VEVENT
DTSTART;TZID=America/New_York:20250608T100000
DTEND;TZID=America/New_York:20250608T190000
DTSTAMP:20260419T115812
CREATED:20250512T144244Z
LAST-MODIFIED:20250513T012648Z
UID:10000599-1749376800-1749409200@korashriners.org
SUMMARY:Celebration of Life for Kurt Campbell
DESCRIPTION:
URL:https://korashriners.org/event/celebration-of-life-for-kurt-campbell/
LOCATION:Kora Shrine Temple\, 11 Sabattus St\, Lewiston\, ME\, 04240\, United States
ORGANIZER;CN="Kora Shriners":MAILTO:info@korashriners.org
END:VEVENT
BEGIN:VEVENT
DTSTART;TZID=America/New_York:20250512T180000
DTEND;TZID=America/New_York:20250512T190000
DTSTAMP:20260419T115812
CREATED:20250403T170212Z
LAST-MODIFIED:20250403T170212Z
UID:10000533-1747072800-1747076400@korashriners.org
SUMMARY:Cycle Corps Unit Monthly Meeting
DESCRIPTION:
URL:https://korashriners.org/event/cycle-corps-unit-monthly-meeting/2025-05-12/
LOCATION:Kora Shrine Temple\, 11 Sabattus St\, Lewiston\, ME\, 04240\, United States
ORGANIZER;CN="Kora Shriners":MAILTO:info@korashriners.org
END:VEVENT
BEGIN:VEVENT
DTSTART;TZID=America/New_York:20250414T180000
DTEND;TZID=America/New_York:20250414T190000
DTSTAMP:20260419T115812
CREATED:20250403T170212Z
LAST-MODIFIED:20250403T170212Z
UID:10000532-1744653600-1744657200@korashriners.org
SUMMARY:Cycle Corps Unit Monthly Meeting
DESCRIPTION:
URL:https://korashriners.org/event/cycle-corps-unit-monthly-meeting/2025-04-14/
LOCATION:Kora Shrine Temple\, 11 Sabattus St\, Lewiston\, ME\, 04240\, United States
ORGANIZER;CN="Kora Shriners":MAILTO:info@korashriners.org
END:VEVENT
BEGIN:VEVENT
DTSTART;TZID=America/New_York:20241109T000000
DTEND;TZID=America/New_York:20241110T235959
DTSTAMP:20260419T115812
CREATED:20240917T012403Z
LAST-MODIFIED:20241009T145726Z
UID:10000461-1731110400-1731283199@korashriners.org
SUMMARY:Kora Bus Trip to Shriners Children's New England
DESCRIPTION:We’re excited to invite you on a Kora Bus Trip to Shriners Children’s New England\, happening from Saturday\, November 9th to Sunday\, November 10th\, 2024. This is a unique opportunity to visit the Shriners facility\, tour the hospital\, and enjoy a weekend of fellowship with fellow Kora members and supporters. \nTrip Details: \n\nDate: November 9-10\, 2024\nRSVP Deadline: October 9th\, 2024\nCost:\n\nSingle Occupancy: $200\nDouble Occupancy: $300 (for couples)\n\n\n\nThe trip includes: \n\nRound-trip chartered bus transport to Shriners Children’s New England\nA hospital tour\nOvernight accommodations at the Sturbridge Host Hotel\nDinner on Saturday night and breakfast on Sunday morning\n\nFor the Saturday night dinner\, attendees will have a choice between three delicious options: \n\nRoasted Vegetables over a bed of Mushroom Risotto\nPrime Rib of Beef with a Rosemary-Merlot Au Jus\nBaked Haddock herb crusted in lemon butter\n\nPlease note that while the trip is packed with activities\, optional entertainment is not included in the package. \nHow to Book: To reserve your spot\, complete the form below. Seats are very limited and will be assigned on a first-come\, first-serve basis with only 50 spots available. \nThis trip is a wonderful way to support the Shriners’ mission while enjoying a fun and memorable weekend. Space is limited\, so be sure to reserve your spot before the October 9th deadline! \nThank you to the Kora Membership Committee and Potentate Illustrious Paul Gardner for their support in organizing this event. \n\n\n\n\n\nRegistration is now closed. For questions\, please call the Kora office during business hours at 207-782-6831
URL:https://korashriners.org/event/kora-bus-trip-to-shriners-childrens-new-england/
ATTACH;FMTTYPE=image/jpeg:https://korashriners.org/wp-content/uploads/2024/09/NewEnglandTrip-Kora-Newsletter.jpg
ORGANIZER;CN="Kora Shriners":MAILTO:info@korashriners.org
END:VEVENT
BEGIN:VEVENT
DTSTART;TZID=America/New_York:20241020T100000
DTEND;TZID=America/New_York:20241020T200000
DTSTAMP:20260419T115812
CREATED:20240207T180030Z
LAST-MODIFIED:20240917T025611Z
UID:10000417-1729418400-1729454400@korashriners.org
SUMMARY:Daughters of the Nile
DESCRIPTION:daughters of the nile – supreme queen visit
URL:https://korashriners.org/event/daughters-of-the-nile-3/
LOCATION:Kora Shrine Temple\, 11 Sabattus St\, Lewiston\, ME\, 04240\, United States
ORGANIZER;CN="Kora Shriners":MAILTO:info@korashriners.org
END:VEVENT
BEGIN:VEVENT
DTSTART;TZID=America/New_York:20240919T000000
DTEND;TZID=America/New_York:20240922T235959
DTSTAMP:20260419T115812
CREATED:20230407T134326Z
LAST-MODIFIED:20240917T025747Z
UID:10000353-1726704000-1727049599@korashriners.org
SUMMARY:NSA - Northeast Shrine Days
DESCRIPTION:2024 Northeast Fall Field Days\nSeptember 19th – 22ndKingston\, OntarioHosted by Tunis Shriners\n\nWhat is the NSA Fall Field Days? \nThe Northeast Shrine Association Field Days is a highly anticipated event that brings together shrine temples from across the Northeast region. It showcases the camaraderie and competitive spirit of our Shriners as they engage in various contests and challenges\, demonstrating their skills and team unity.  This event is open to Shriners\, their families\, and ladies.\nImportant Transportation Update7-22-2024\nWE HAVE AN OPPORTUNITY FOR ANYONE TRAVELING TO KINGSTON TO RIDE ON A BUS – See the information below – contact Tim Luttrell with any questions please – **Note – Pick up Location TBD by the interest we receive **Motor Coach Transportation from Anah Shriners – 1404 Broadway\, Bangor\, ME\, USAto Delta Hotel\, Kingston\, ON\, CAThursday\, Sept 19 – Departing Bangor for Kingston at 8am Sunday\, Sept 22 – Departing Kingston for Bangor at 8amPrice per person:  $250Use this link https://www.zeffy.com/en-US/ticketing/36830260-1a79-4004-93e8-7636008265a8 \nDO NOT WAIT SEATS MUST BE BOOKED BY AUGUST 21st\n Kingston – What to expect Kingston is a beautiful waterfront town with a great downtown! Filled with dining\, shopping\, and many opportunities for tours – some water tours are available as well.\nGo to visitkingston.ca/see-do to find info on What to Do in Kingston!\nHotel Info – click the button below for more infoThe Hotel has offered the same Group Room rate for any members who like to travel up before Thursday or stay after Sunday – they will extend this rate for 2 days before the NE and for 2 days following – register the additional days when you register for the Northeast – the rate should stay the same – any issues with this – let Tim Luttrell know.This Hotel is going through the final stages of a complete remodel and rebranding – it is located within 3 blocks of the waterfront – many restaurants\, shops etc. We toured this Hotel back in April – we think you will enjoy it!! Check back for info on a Kora Friday Night Dinner in the Hotel Event Area and a Hospitality Space for Kora at our Hotel.How to get thereKingston is approximately 425 miles from the greater Lewiston area. It’s a solid 8 hours in decent traveling conditions with a couple of brief stops.Transportation – Renting Vans Larry Stewart’s in Lisbon – Van Rental for pick up Wed after 3 pm and return Sunday. (You can leave vehicles there. not sure how many-check with them)For 12 Passenger Vans – about $750 rental – 500 miles included plus .20 a mile after – return tank full – approximately $1000 to $1200 per van depending on your miles. Two vans have been reserved in case anyone would like to travel together – 5 couples would travel comfortably with plenty of room for luggage! \nIf you are interested in a van:  please contact Tim Luttrell at tluttrell54@gmail.com or 207-754-4706 for more information.  \nIf you have any questions regarding the Northeast – please contact one of the following:\n\nKora Recorder\, PP John Knox at jrknox@korashriners.org\nTemple office – 207-782-6831\nTim Luttrell-Housing Chairman\, Kora Shriners at tluttrell54@gmail.com or 207-754-4706.\n\nTraveling to meet New Friends is something you will never regret as a Shriner! Register today and join the fun!!!\n\n\n\n\nNSA Housing Information\n\n\n\nNSA Schedule of Events
URL:https://korashriners.org/event/nsa-northeast-shrine-fall-field-days/
LOCATION:Tunis Shriners\, 2140 Walkley Rd #100\, Ottawa\, K1G 3V3\, Canada
CATEGORIES:No the cart will not be necessary for this event
ORGANIZER;CN="Kora Shriners":MAILTO:info@korashriners.org
END:VEVENT
BEGIN:VEVENT
DTSTART;TZID=America/New_York:20240514T080000
DTEND;TZID=America/New_York:20240514T170000
DTSTAMP:20260419T115812
CREATED:20240207T180025Z
LAST-MODIFIED:20240917T025820Z
UID:10000413-1715673600-1715706000@korashriners.org
SUMMARY:Maine Rainbow Grand Assembly
DESCRIPTION:maine raianbow grand assembly setup
URL:https://korashriners.org/event/maine-rainbow-grand-assembly/
LOCATION:Kora Shrine Temple\, 11 Sabattus St\, Lewiston\, ME\, 04240\, United States
ORGANIZER;CN="Kora Shriners":MAILTO:info@korashriners.org
END:VEVENT
BEGIN:VEVENT
DTSTART;TZID=America/New_York:20240506T000000
DTEND;TZID=America/New_York:20240507T235959
DTSTAMP:20260419T115812
CREATED:20230901T140056Z
LAST-MODIFIED:20240917T024748Z
UID:10000374-1714953600-1715126399@korashriners.org
SUMMARY:Grand Lodge of Maine
DESCRIPTION:grand lodge session
URL:https://korashriners.org/event/grand-lodge-of-maine/
LOCATION:Kora Shrine Temple\, 11 Sabattus St\, Lewiston\, ME\, 04240\, United States
CATEGORIES:Yes we would like the cart for this event
ORGANIZER;CN="Kora Shriners":MAILTO:info@korashriners.org
END:VEVENT
END:VCALENDAR